Workbook

Sheet Коэф-т пос-ти 2022 г
A1: Расчет коэффициента посещаемости детей ДОУ на 2022 год
A3: Учреждение | B3: Количество рабочих дней в году | C3: Ремонт в каком месяце | D3: Количество рабочих дней, приходящихся на ремонт | E3: Количество дней по плану | F3: Количество детей по плану | G3: План по посещаемости | H3: Фактические человекодни | I3: Коэффициент посещаемости за год
A4: 1 | B4: 2 | C4: 3 | D4: 4 | E4: 5 | F4: 6 | G4: 7 | H4: 8 | I4: 9
A5: МДОУ №2 "Юбилейный" | B5: 247 | C5: июнь | D5: 21 | E5: =B5-D5 -> 226 | F5: 66 | G5: =F5*E5 -> 14916 | H5: 6597 | I5: =H5/G5 -> 0.44227675
A6: МДОУ №3 "Аленушка" | B6: 247 | C6: июль | D6: 21 | E6: =B6-D6 -> 226 | F6: 99 | G6: =F6*E6 -> 22374 | H6: 13311 | I6: =H6/G6 -> 0.59493162
A7: МДОУ №4 "Березка" | B7: 247 | C7: июнь | D7: 21 | E7: =B7-D7 -> 226 | F7: 50 | G7: =F7*E7 -> 11300 | H7: 4282 | I7: =H7/G7 -> 0.37893805
A8: МДОУ №5 "Ивушка" | B8: 247 | C8: июнь | D8: 21 | E8: =B8-D8 -> 226 | F8: 44 | G8: =F8*E8 -> 9944 | H8: 3311 | I8: =H8/G8 -> 0.3329646
A9: МДОУ №7 "Светлячок" | B9: 247 | C9: июнь | D9: 21 | E9: =B9-D9 -> 226 | F9: 41 | G9: =F9*E9 -> 9266 | H9: 5063 | I9: =H9/G9 -> 0.54640622
A10: МДОУ №8 "Матрешка" | B10: 247 | C10: июнь | D10: 21 | E10: =B10-D10 -> 226 | F10: 100 | G10: =F10*E10 -> 22600 | H10: 11787 | I10: =H10/G10 -> 0.52154867
A11: МДОУ №9 "Радуга" | B11: 247 | C11: июнь | D11: 21 | E11: =B11-D11 -> 226 | F11: 44 | G11: =F11*E11 -> 9944 | H11: 5856 | I11: =H11/G11 -> 0.58889783
A12: МДОУ №10 "Буратино" | B12: 247 | C12: июль | D12: 21 | E12: =B12-D12 -> 226 | F12: 64 | G12: =F12*E12 -> 14464 | H12: 6119 | I12: =H12/G12 -> 0.42305033
A13: МДОУ №12"Незабудка" | B13: 247 | C13: июнь | D13: 21 | E13: =B13-D13 -> 226 | F13: 68 | G13: =F13*E13 -> 15368 | H13: 10229 | I13: =H13/G13 -> 0.66560385
A14: МДОУ № 14 "Калинка" | B14: 247 | C14: июль | D14: 21 | E14: =B14-D14 -> 226 | F14: 21 | G14: =F14*E14 -> 4746 | H14: 2804 | I14: =H14/G14 -> 0.59081332
A15: МДОУ №15 "Малышок" | B15: 247 | C15: июль | D15: 21 | E15: =B15-D15 -> 226 | F15: 26 | G15: =F15*E15 -> 5876 | H15: 3961 | I15: =H15/G15 -> 0.67409803
A16: МДОУ №16 "Солнышко" | B16: 247 | C16: июль | D16: 21 | E16: =B16-D16 -> 226 | F16: 38 | G16: =F16*E16 -> 8588 | H16: 4050 | I16: =H16/G16 -> 0.47158826
... A20: МДОУ №20 "Рябинушка" | B20: 247 | C20: июнь | D20: 21 | E20: =B20-D20 -> 226 | F20: 213 | G20: =F20*E20 -> 48138 | H20: 29898 | I20: =H20/G20 -> 0.62108937
A21: МДОУ №23 "Елочка" | B21: 247 | C21: - | E21: =B21-D21 -> 247 | F21: 90 | G21: =F21*E21 -> 22230 | H21: 13794 | I21: =H21/G21 -> 0.62051282
A22: МДОУ №29 "Золотой ключик | B22: 247 | C22: - | E22: =B22-D22 -> 247 | F22: 10 | G22: =F22*E22 -> 2470 | H22: 0 | I22: =H22/G22 -> 0
A23: МДОУ №31 "Ручеек" | B23: 247 | C23: июль | D23: 21 | E23: =B23-D23 -> 226 | F23: 83 | G23: =F23*E23 -> 18758 | H23: 10708 | I23: =H23/G23 -> 0.57084977
A24: МДОУ №32 "Колосок " | B24: 247 | C24: июль | D24: 21 | E24: =B24-D24 -> 226 | F24: 72 | G24: =F24*E24 -> 16272 | H24: 5776 | I24: =H24/G24 -> 0.35496559
A25: МДОУ №33 "Звездочка" | B25: 247 | C25: июль | D25: 21 | E25: =B25-D25 -> 226 | F25: 210 | G25: =F25*E25 -> 47460 | H25: 25981 | I25: =H25/G25 -> 0.54742941
A26: МДОУ №34 "Фиалка" | B26: 247 | C26: июль | D26: 21 | E26: =B26-D26 -> 226 | F26: 44 | G26: =F26*E26 -> 9944 | H26: 5159 | I26: =H26/G26 -> 0.51880531
A27: МОУ СОШ №3 (дошк.группы) | B27: 247 | C27: июль | D27: 21 | E27: =B27-D27 -> 226 | F27: 20 | G27: =F27*E27 -> 4520 | H27: 2184 | I27: =H27/G27 -> 0.48318584
A28: Итого | F28: =SUM(F5:F27) -> 1577 | G28: =SUM(G5:G27) -> 358502 | H28: =SUM(H5:H27) -> 186886 | I28: =SUM(I5:I27)/22 -> 0.507136
A32: Исполнитель
A33: Басова С.Н.
A34: тел. 2-65-28

Sheet Коэф-т пос-ти 2023 г 
A1: Расчет коэффициента посещаемости детей ДОУ на 2023 г.
A3: Учреждение | B3: Количество рабочих дней в году | C3: Ремонт в каком месяце | D3: Количество рабочих дней, приходящихся на ремонт | E3: Количество дней по плану | F3: Количество детей по плану | G3: План по посещаемости | H3: Фактические человекодни | I3: Коэффициент посещаемости за год
A4: 1 | B4: 2 | C4: 3 | D4: 4 | E4: 5 | F4: 6 | G4: 7 | H4: 8 | I4: 9
A5: МДОУ №2 "Юбилейный" | B5: 247 | C5: июль | D5: 21 | E5: =B5-D5 -> 226 | F5: 63 | G5: =F5*E5 -> 14238 | H5: 6983 | I5: =H5/G5 -> 0.4904481
A6: МДОУ №3 "Аленушка" | B6: 247 | C6: июнь | D6: 21 | E6: =B6-D6 -> 226 | F6: 97 | G6: =F6*E6 -> 21922 | H6: 12531 | I6: =H6/G6 -> 0.57161755
A7: МДОУ №4 "Березка" | B7: 247 | C7: июнь | D7: 21 | E7: =B7-D7 -> 226 | F7: 47 | G7: =F7*E7 -> 10622 | H7: 5647 | I7: =H7/G7 -> 0.53163246
A8: МДОУ №5 "Ивушка" | B8: 247 | C8: июнь | D8: 21 | E8: =B8-D8 -> 226 | F8: 48 | G8: =F8*E8 -> 10848 | H8: 4383 | I8: =H8/G8 -> 0.40403761
A9: МДОУ №7 "Светлячок" | B9: 247 | C9: июнь | D9: 21 | E9: =B9-D9 -> 226 | F9: 43 | G9: =F9*E9 -> 9718 | H9: 4702 | I9: =H9/G9 -> 0.48384441
A10: МДОУ №8 "Матрешка" | B10: 247 | C10: июнь | D10: 21 | E10: =B10-D10 -> 226 | F10: 101 | G10: =F10*E10 -> 22826 | H10: 12230 | I10: =H10/G10 -> 0.53579252
A11: МДОУ №9 "Радуга" | B11: 247 | C11: июль | D11: 21 | E11: =B11-D11 -> 226 | F11: 40 | G11: =F11*E11 -> 9040 | H11: 5289 | I11: =H11/G11 -> 0.58506637
A12: МДОУ №10 "Буратино" | B12: 247 | C12: июль | D12: 21 | E12: =B12-D12 -> 226 | F12: 49 | G12: =F12*E12 -> 11074 | H12: 5909 | I12: =H12/G12 -> 0.5335922
A13: МДОУ №12"Незабудка" | B13: 247 | C13: июнь | D13: 21 | E13: =B13-D13 -> 226 | F13: 65 | G13: =F13*E13 -> 14690 | H13: 9251 | I13: =H13/G13 -> 0.62974813
A14: МДОУ № 14 "Калинка" | B14: 247 | C14: июль | D14: 21 | E14: =B14-D14 -> 226 | F14: 21 | G14: =F14*E14 -> 4746 | H14: 2834 | I14: =H14/G14 -> 0.59713443
A15: МДОУ №15 "Малышок" | B15: 247 | C15: июль | D15: 21 | E15: =B15-D15 -> 226 | F15: 18 | G15: =F15*E15 -> 4068 | H15: 3331 | I15: =H15/G15 -> 0.81882989
A16: МДОУ №16 "Солнышко" | B16: 247 | C16: июнь | D16: 21 | E16: =B16-D16 -> 226 | F16: 45 | G16: =F16*E16 -> 10170 | H16: 4555 | I16: =H16/G16 -> 0.44788594
... A21: МДОУ №23 "Елочка" | B21: 247 | C21: июль | D21: 21 | E21: =B21-D21 -> 226 | F21: 92 | G21: =F21*E21 -> 20792 | H21: 11795 | I21: =H21/G21 -> 0.56728549
A22: МДОУ №29 "Золотой ключик | B22: 247 | C22: - | E22: =B22-D22 -> 247 | F22: 7 | G22: =F22*E22 -> 1729 | H22: 0 | I22: =H22/G22 -> 0
A23: МДОУ №31 "Ручеек" | B23: 247 | C23: июль | D23: 21 | E23: =B23-D23 -> 226 | F23: 72 | G23: =F23*E23 -> 16272 | H23: 10856 | I23: =H23/G23 -> 0.66715831
A24: МДОУ №32 "Колосок " | B24: 247 | C24: июль | D24: 21 | E24: =B24-D24 -> 226 | F24: 75 | G24: =F24*E24 -> 16950 | H24: 6245 | I24: =H24/G24 -> 0.36843658
A25: МДОУ №33 "Звездочка" | B25: 247 | C25: июнь | D25: 21 | E25: =B25-D25 -> 226 | F25: 218 | G25: =F25*E25 -> 49268 | H25: 27955 | I25: =H25/G25 -> 0.56740684
A26: МДОУ №34 "Фиалка" | B26: 247 | C26: июль | D26: 21 | E26: =B26-D26 -> 226 | F26: 44 | G26: =F26*E26 -> 9944 | H26: 4108 | I26: =H26/G26 -> 0.41311344
A27: МОУ СОШ №3 (дошк.группы) | B27: 247 | C27: июль | D27: 21 | E27: =B27-D27 -> 226 | F27: 17 | G27: =F27*E27 -> 3842 | H27: 2327 | I27: =H27/G27 -> 0.60567413
A28: Итого | F28: =SUM(F5:F27) -> 1534 | G28: =SUM(G5:G27) -> 346831 | H28: =SUM(H5:H27) -> 188402 | I28: =SUM(I5:I27)/22 -> 0.53501078
A31: Исполнитель
A32: Басова С.Н.
A33: тел. 2-65-28

Sheet Коэф-т пос-ти 2024 г
A1: Расчет коэффициента посещаемости детей ДОУ на 2024 г.
A3: Учреждение | B3: Количество рабочих дней в году | C3: Ремонт в каком месяце | D3: Количество рабочих дней, приходящихся на ремонт | E3: Количество дней по плану | F3: Количество детей по плану | G3: План по посещаемости | H3: Фактические человекодни | I3: Коэффициент посещаемости за год
A4: 1 | B4: 2 | C4: 3 | D4: 4 | E4: 5 | F4: 6 | G4: 7 | H4: 8 | I4: 9
A5: МДОУ №2 "Юбилейный" | B5: 248 | C5: июнь | D5: 19 | E5: =B5-D5 -> 229 | F5: 70 | G5: =F5*E5 -> 16030 | H5: 6995 | I5: =H5/G5 -> 0.43636931
A6: МДОУ №3 "Аленушка" | B6: 248 | C6: июль | D6: 23 | E6: =B6-D6 -> 225 | F6: 95 | G6: =F6*E6 -> 21375 | H6: 13035 | I6: =H6/G6 -> 0.60982456
A7: МДОУ №4 "Березка" | B7: 248 | C7: июнь | D7: 19 | E7: =B7-D7 -> 229 | F7: 36 | G7: =F7*E7 -> 8244 | H7: 4535 | I7: =H7/G7 -> 0.55009704
A8: МДОУ №5 "Ивушка" | B8: 248 | C8: июнь | D8: 19 | E8: =B8-D8 -> 229 | F8: 46 | G8: =F8*E8 -> 10534 | H8: 4467 | I8: =H8/G8 -> 0.42405544
A9: МДОУ №7 "Светлячок" | B9: 248 | C9: июнь | D9: 19 | E9: =B9-D9 -> 229 | F9: 42 | G9: =F9*E9 -> 9618 | H9: 4487 | I9: =H9/G9 -> 0.46652111
A10: МДОУ №8 "Матрешка" | B10: 248 | C10: июнь | D10: 19 | E10: =B10-D10 -> 229 | F10: 94 | G10: =F10*E10 -> 21526 | H10: 12956 | I10: =H10/G10 -> 0.6018768
A11: МДОУ №9 "Радуга" | B11: 248 | C11: июль | D11: 23 | E11: =B11-D11 -> 225 | F11: 28 | G11: =F11*E11 -> 6300 | H11: 4290 | I11: =H11/G11 -> 0.68095238
A12: МДОУ №10 "Буратино" | B12: 248 | C12: июль | D12: 23 | E12: =B12-D12 -> 225 | F12: 50 | G12: =F12*E12 -> 11250 | H12: 5408 | I12: =H12/G12 -> 0.48071111
A13: МДОУ №12"Незабудка" | B13: 248 | C13: июнь | D13: 19 | E13: =B13-D13 -> 229 | F13: 64 | G13: =F13*E13 -> 14656 | H13: 8286 | I13: =H13/G13 -> 0.56536572
A14: МДОУ № 14 "Калинка" | B14: 248 | C14: июль | D14: 23 | E14: =B14-D14 -> 225 | F14: 27 | G14: =F14*E14 -> 6075 | H14: 3196 | I14: =H14/G14 -> 0.52609053
A15: МДОУ №15 "Малышок" | B15: 248 | C15: июль | D15: 23 | E15: =B15-D15 -> 225 | F15: 16 | G15: =F15*E15 -> 3600 | H15: 2498 | I15: =H15/G15 -> 0.69388889
A16: МДОУ №16 "Солнышко" | B16: 248 | C16: июль | D16: 23 | E16: =B16-D16 -> 225 | F16: 53 | G16: =F16*E16 -> 11925 | H16: 5083 | I16: =H16/G16 -> 0.42624738
... A21: МДОУ №23 "Елочка" | B21: 248 | C21: июль | D21: 23 | E21: =B21-D21 -> 225 | F21: 94 | G21: =F21*E21 -> 21150 | H21: 10242 | I21: =H21/G21 -> 0.48425532
A22: МДОУ №29 "Золотой ключик | B22: 248 | C22: - | E22: =B22-D22 -> 248 | F22: 0 | G22: =F22*E22 -> 0 | I22: 0
A23: МДОУ №31 "Ручеек" | B23: 248 | C23: июль | D23: 23 | E23: =B23-D23 -> 225 | F23: 67 | G23: =F23*E23 -> 15075 | H23: 9148 | I23: =H23/G23 -> 0.6068325
A24: МДОУ №32 "Колосок " | B24: 248 | C24: июнь | D24: 19 | E24: =B24-D24 -> 229 | F24: 70 | G24: =F24*E24 -> 16030 | H24: 6508 | I24: =H24/G24 -> 0.40598877
A25: МДОУ №33 "Звездочка" | B25: 248 | C25: июль | D25: 23 | E25: =B25-D25 -> 225 | F25: 214 | G25: =F25*E25 -> 48150 | H25: 28657 | I25: =H25/G25 -> 0.59516096
A26: МДОУ №34 "Фиалка" | B26: 248 | C26: июль | D26: 23 | E26: =B26-D26 -> 225 | F26: 35 | G26: =F26*E26 -> 7875 | H26: 2943 | I26: =H26/G26 -> 0.37371429
A27: МОУ СОШ №3 (дошк.группы) | B27: 248 | C27: июль | D27: 23 | E27: =B27-D27 -> 225 | F27: 17 | G27: =F27*E27 -> 3825 | H27: 2545 | I27: =H27/G27 -> 0.66535948
A28: Итого | F28: =SUM(F5:F27) -> 1479 | G28: =SUM(G5:G27) -> 335707 | H28: =SUM(H5:H27) -> 181059 | I28: =SUM(I5:I27)/22 -> 0.52732934
A31: Исполнитель
A32: Басова С.Н.
A33: тел. 2-65-28

Sheet Коэф-т пос-ти 2025 г (2)
A1: Расчет коэффициента посещаемости детей ДОУ на 2025 г.
A3: Учреждение | B3: Количество рабочих дней в году | C3: Ремонт в каком месяце | D3: Количество рабочих дней, приходящихся на ремонт | E3: Количество дней по плану | F3: Количество детей по плану | G3: План по посещаемости | H3: Фактические человекодни | I3: Коэффициент посещаемости за год
A4: 1 | B4: 2 | C4: 3 | D4: 4 | E4: 5 | F4: 6 | G4: 7 | H4: 8 | I4: 9
A5: МДОУ №2 "Юбилейный" | B5: 246 | C5: июль | D5: 23 | E5: =B5-D5 -> 223 | F5: 59 | G5: =F5*E5 -> 13157 | H5: 6877 | I5: =H5/G5 -> 0.52268754
A6: МДОУ №3 "Аленушка" | B6: 246 | C6: июнь | D6: 19 | E6: =B6-D6 -> 227 | F6: 94 | G6: =F6*E6 -> 21338 | H6: 13885 | I6: =H6/G6 -> 0.65071703
A7: МДОУ №4 "Березка" | B7: 246 | C7: июнь | D7: 19 | E7: =B7-D7 -> 227 | F7: 18 | G7: =F7*E7 -> 4086 | H7: 2690 | I7: =H7/G7 -> 0.65834557
A8: МДОУ №5 "Ивушка" | B8: 246 | C8: июнь | D8: 19 | E8: =B8-D8 -> 227 | F8: 40 | G8: =F8*E8 -> 9080 | H8: 4244 | I8: =H8/G8 -> 0.46740088
A9: МДОУ №7 "Светлячок" | B9: 246 | C9: июнь | D9: 19 | E9: =B9-D9 -> 227 | F9: 35 | G9: =F9*E9 -> 7945 | H9: 3997 | I9: =H9/G9 -> 0.5030837
A10: МДОУ №8 "Матрешка" | B10: 246 | C10: июнь | D10: 19 | E10: =B10-D10 -> 227 | F10: 96 | G10: =F10*E10 -> 21792 | H10: 12393 | I10: =H10/G10 -> 0.56869493
A11: МДОУ №9 "Радуга" | B11: 246 | C11: июль | D11: 23 | E11: =B11-D11 -> 223 | F11: 22 | G11: =F11*E11 -> 4906 | H11: 2911 | I11: =H11/G11 -> 0.59335508
A12: МДОУ №10 "Буратино" | B12: 246 | C12: июль | D12: 23 | E12: =B12-D12 -> 223 | F12: 35 | G12: =F12*E12 -> 7805 | H12: 5259 | I12: =H12/G12 -> 0.67379885
A13: МДОУ №12"Незабудка" | B13: 246 | C13: июнь | D13: 19 | E13: =B13-D13 -> 227 | F13: 55 | G13: =F13*E13 -> 12485 | H13: 6317 | I13: =H13/G13 -> 0.50596716
A14: МДОУ № 14 "Калинка" | B14: 246 | C14: июль | D14: 23 | E14: =B14-D14 -> 223 | F14: 24 | G14: =F14*E14 -> 5352 | H14: 3356 | I14: =H14/G14 -> 0.62705531
A15: МДОУ №15 "Малышок" | B15: 246 | C15: июль | E15: =B15-D15 -> 246 | F15: 0 | G15: =F15*E15 -> 0 | I15: 0
A16: МДОУ №16 "Солнышко" | B16: 246 | C16: июль | D16: 23 | E16: =B16-D16 -> 223 | F16: 49 | G16: =F16*E16 -> 10927 | H16: 5183 | I16: =H16/G16 -> 0.47432964
A17: МДОУ №16-а "Теремок" | B17: 246 | C17: июнь | D17: 19 | E17: =B17-D17 -> 227 | F17: 52 | G17: =F17*E17 -> 11804 | H17: 5408 | I17: =H17/G17 -> 0.45814978
A18: МДОУ №17 "Солнышко" | B18: 246 | C18: июль | D18: 23 | E18: =B18-D18 -> 223 | F18: 78 | G18: =F18*E18 -> 17394 | H18: 7928 | I18: =H18/G18 -> 0.45578935
A19: МДОУ № 18 "Тополек" | B19: 246 | C19: июль | D19: 23 | E19: =B19-D19 -> 223 | F19: 41 | G19: =F19*E19 -> 9143 | H19: 3715 | I19: =H19/G19 -> 0.40632178
A20: МДОУ №20 "Рябинушка" | B20: 246 | C20: июль | D20: 23 | E20: =B20-D20 -> 223 | F20: 189 | G20: =F20*E20 -> 42147 | H20: 25276 | I20: =H20/G20 -> 0.59971054
A21: МДОУ №23 "Елочка" | B21: 246 | C21: июль | D21: 23 | E21: =B21-D21 -> 223 | F21: 99 | G21: =F21*E21 -> 22077 | H21: 9782 | I21: =H21/G21 -> 0.44308556
A22: МДОУ №29 "Золотой ключик | B22: 246 | C22: - | E22: =B22-D22 -> 246 | F22: 0 | G22: =F22*E22 -> 0 | I22: 0
A23: МДОУ №31 "Ручеек" | B23: 246 | C23: июль | D23: 23 | E23: =B23-D23 -> 223 | F23: 65 | G23: =F23*E23 -> 14495 | H23: 8678 | I23: =H23/G23 -> 0.5986892
A24: МДОУ №32 "Колосок " | B24: 246 | C24: июль | D24: 23 | E24: =B24-D24 -> 223 | F24: 64 | G24: =F24*E24 -> 14272 | H24: 5914 | I24: =H24/G24 -> 0.4143778
A25: МДОУ №33 "Звездочка" | B25: 246 | C25: июнь | D25: 19 | E25: =B25-D25 -> 227 | F25: 204 | G25: =F25*E25 -> 46308 | H25: 28998 | I25: =H25/G25 -> 0.6261985
A26: МДОУ №34 "Фиалка" | B26: 246 | C26: июль | D26: 23 | E26: =B26-D26 -> 223 | F26: 32 | G26: =F26*E26 -> 7136 | H26: 3168 | I26: =H26/G26 -> 0.44394619
A27: МОУ СОШ №3 (дошк.группы) | B27: 246 | C27: июль | D27: 23 | E27: =B27-D27 -> 223 | F27: 21 | G27: =F27*E27 -> 4683 | H27: 2582 | I27: =H27/G27 -> 0.55135597
A28: Итого | F28: =SUM(F5:F27) -> 1372 | G28: =SUM(G5:G27) -> 308332 | H28: =SUM(H5:H27) -> 168561 | I28: =SUM(I5:I27)/22 -> 0.5110482
A31: Исполнитель
A32: Басова С.Н.
A33: тел. 2-60-95

Sheet Средний коэфф-нт посещаемости
A1: Расчет среднего коэффициента посещаемости детей ДОУ на 2026 год
A2: Учреждение | B2: Коэффициент посещаемости за 2023 год | C2: Коэффициент посещаемости за 2024 год | D2: Коэффициент посещаемости за 2025 год | E2: Средний коэффициент посещаемости за 3 года
A3: МДОУ №2 "Юбилейный" | B3: ='Коэф-т пос-ти 2023 г '!I5 -> 0.4904481 | C3: ='Коэф-т пос-ти 2024 г'!I5 -> 0.43636931 | D3: ='Коэф-т пос-ти 2025 г (2)'!I5 -> 0.52268754 | E3: =(B3+C3+D3)/3 -> 0.48316832
A4: МДОУ №3 "Аленушка" | B4: ='Коэф-т пос-ти 2023 г '!I6 -> 0.57161755 | C4: ='Коэф-т пос-ти 2024 г'!I6 -> 0.60982456 | D4: ='Коэф-т пос-ти 2025 г (2)'!I6 -> 0.65071703 | E4: =(B4+C4+D4)/3 -> 0.61071972
A5: МДОУ №4 "Березка" | B5: ='Коэф-т пос-ти 2023 г '!I7 -> 0.53163246 | C5: ='Коэф-т пос-ти 2024 г'!I7 -> 0.55009704 | D5: ='Коэф-т пос-ти 2025 г (2)'!I7 -> 0.65834557 | E5: =(B5+C5+D5)/3 -> 0.58002502
A6: МДОУ №5 "Ивушка" | B6: ='Коэф-т пос-ти 2023 г '!I8 -> 0.40403761 | C6: ='Коэф-т пос-ти 2024 г'!I8 -> 0.42405544 | D6: ='Коэф-т пос-ти 2025 г (2)'!I8 -> 0.46740088 | E6: =(B6+C6+D6)/3 -> 0.43183131
A7: МДОУ №7 "Светлячок" | B7: ='Коэф-т пос-ти 2023 г '!I9 -> 0.48384441 | C7: ='Коэф-т пос-ти 2024 г'!I9 -> 0.46652111 | D7: ='Коэф-т пос-ти 2025 г (2)'!I9 -> 0.5030837 | E7: =(B7+C7+D7)/3 -> 0.48448307
A8: МДОУ №8 "Матрешка" | B8: ='Коэф-т пос-ти 2023 г '!I10 -> 0.53579252 | C8: ='Коэф-т пос-ти 2024 г'!I10 -> 0.6018768 | D8: ='Коэф-т пос-ти 2025 г (2)'!I10 -> 0.56869493 | E8: =(B8+C8+D8)/3 -> 0.56878808
A9: МДОУ №9 "Радуга" | B9: ='Коэф-т пос-ти 2023 г '!I11 -> 0.58506637 | C9: ='Коэф-т пос-ти 2024 г'!I11 -> 0.68095238 | D9: ='Коэф-т пос-ти 2025 г (2)'!I11 -> 0.59335508 | E9: =(B9+C9+D9)/3 -> 0.61979128
A10: МДОУ №10 "Буратино" | B10: ='Коэф-т пос-ти 2023 г '!I12 -> 0.5335922 | C10: ='Коэф-т пос-ти 2024 г'!I12 -> 0.48071111 | D10: ='Коэф-т пос-ти 2025 г (2)'!I12 -> 0.67379885 | E10: =(B10+C10+D10)/3 -> 0.56270072
A11: МДОУ №12"Незабудка" | B11: ='Коэф-т пос-ти 2023 г '!I13 -> 0.62974813 | C11: ='Коэф-т пос-ти 2024 г'!I13 -> 0.56536572 | D11: ='Коэф-т пос-ти 2025 г (2)'!I13 -> 0.50596716 | E11: =(B11+C11+D11)/3 -> 0.567027
A12: МДОУ № 14 "Калинка" | B12: ='Коэф-т пос-ти 2023 г '!I14 -> 0.59713443 | C12: ='Коэф-т пос-ти 2024 г'!I14 -> 0.52609053 | D12: ='Коэф-т пос-ти 2025 г (2)'!I14 -> 0.62705531 | E12: =(B12+C12+D12)/3 -> 0.58342676
A13: МДОУ №15 "Малышок" | B13: ='Коэф-т пос-ти 2023 г '!I15 -> 0.81882989 | C13: ='Коэф-т пос-ти 2024 г'!I15 -> 0.69388889 | D13: ='Коэф-т пос-ти 2025 г (2)'!I15 -> 0 | E13: =(B13+C13+D13)/3 -> 0.50423959
A14: МДОУ №16 "Солнышко" | B14: ='Коэф-т пос-ти 2023 г '!I16 -> 0.44788594 | C14: ='Коэф-т пос-ти 2024 г'!I16 -> 0.42624738 | D14: ='Коэф-т пос-ти 2025 г (2)'!I16 -> 0.47432964 | E14: =(B14+C14+D14)/3 -> 0.44948765
... A25: МОУ СОШ №3 (дошк.группы) | B25: ='Коэф-т пос-ти 2023 г '!I27 -> 0.60567413 | C25: ='Коэф-т пос-ти 2024 г'!I27 -> 0.66535948 | D25: ='Коэф-т пос-ти 2025 г (2)'!I27 -> 0.55135597 | E25: =(B25+C25+D25)/3 -> 0.60746319
A26: Итого | B26: =SUM(B3:B25)/23 -> 0.51174944 | C26: =SUM(C3:C25)/23 -> 0.50440198 | D26: =SUM(D3:D25)/23 -> 0.48882871 | E26: =SUM(E3:E25)/22 -> 0.52446277
A29: Исполнитель
A30: Басова С.Н.
A31: тел. 2-60-95
